BEGIN:VCALENDAR
VERSION:2.0
PRODID:-//Mullingar RFC - ECPv4.5.13//NONSGML v1.0//EN
CALSCALE:GREGORIAN
METHOD:PUBLISH
X-WR-CALNAME:Mullingar RFC
X-ORIGINAL-URL:http://www.mullingarrfc.ie
X-WR-CALDESC:Events for Mullingar RFC
BEGIN:VEVENT
DTSTART;TZID=Europe/London:20171001T110000
DTEND;TZID=Europe/London:20171001T122000
DTSTAMP:20171024T134228
CREATED:20171024T123942Z
LAST-MODIFIED:20171024T123942Z
UID:5467-1506852000-1506856800@www.mullingarrfc.ie
SUMMARY:Leinster Women's Division 1
DESCRIPTION:01/10 Shay Murtagh Park KO 11:00 \nMULLINGAR HEIFERS vs EDENDERRY \n
URL:http://www.mullingarrfc.ie/event/leinster-womens-division-1/
END:VEVENT
BEGIN:VEVENT
DTSTART;TZID=Europe/London:20171001T150000
DTEND;TZID=Europe/London:20171001T162000
DTSTAMP:20171024T134228
CREATED:20171024T123942Z
LAST-MODIFIED:20171024T123942Z
UID:5466-1506866400-1506871200@www.mullingarrfc.ie
SUMMARY:Leinster Rugby Div 2A (J1)
DESCRIPTION:Fixture: \nShay Murtagh Park KO 15:00MULLINGAR v NEW ROSS \n
URL:http://www.mullingarrfc.ie/event/leinster-rugby-div-2a-j1/
END:VEVENT
BEGIN:VEVENT
DTSTART;TZID=Europe/London:20171014T193000
DTEND;TZID=Europe/London:20171014T205000
DTSTAMP:20171024T134228
CREATED:20171024T123942Z
LAST-MODIFIED:20171024T123942Z
UID:5468-1508005800-1508010600@www.mullingarrfc.ie
SUMMARY:Leinster Rugby Division 2A\nNEWBRIDGE vs MULLINGAR
DESCRIPTION:Week 3 Leinster Rugby Division 2A \nNEWBRIDGE vs MULLINGAR \nVenue: Rosetown\, Newbridge Co. Kildare \nJ2 Kick Off 18:00 \nJ1 Kick Off 19:30 \n
URL:http://www.mullingarrfc.ie/event/leinster-rugby-division-2anewbridge-vs-mullingar/
END:VEVENT
BEGIN:VEVENT
DTSTART;TZID=Europe/London:20171015T130000
DTEND;TZID=Europe/London:20171015T142000
DTSTAMP:20171024T134228
CREATED:20171024T123942Z
LAST-MODIFIED:20171024T123942Z
UID:5469-1508068800-1508073600@www.mullingarrfc.ie
SUMMARY:Leinster Women's Div 1\nMULLINGAR vs RATHDRUM
DESCRIPTION:Week 3 Leinster Women’s Division 1 \nMULLINGAR vs RATHDRUM \nVenue: Shay Murtagh Park \nKick Off 13:00 \n \n
URL:http://www.mullingarrfc.ie/event/leinster-womens-div-1mullingar-vs-rathdrum/
END:VEVENT
BEGIN:VEVENT
DTSTART;TZID=Europe/London:20171022T130000
DTEND;TZID=Europe/London:20171022T142000
DTSTAMP:20171024T134228
CREATED:20171024T123943Z
LAST-MODIFIED:20171024T123943Z
UID:5471-1508673600-1508678400@www.mullingarrfc.ie
SUMMARY:Leinster Women's Div 1\nSt Mary's Women vs Mullingar Heifers
DESCRIPTION:Week 5 Leinster Women's Division 1 \nKick Off 13:00 \nTempleville Road  \n
URL:http://www.mullingarrfc.ie/event/leinster-womens-div-1st-marys-women-vs-mullingar-heifers/
END:VEVENT
BEGIN:VEVENT
DTSTART;TZID=Europe/London:20171022T150000
DTEND;TZID=Europe/London:20171022T162000
DTSTAMP:20171024T134228
CREATED:20171024T123943Z
LAST-MODIFIED:20171024T123943Z
UID:5470-1508680800-1508685600@www.mullingarrfc.ie
SUMMARY:Leinster Rugby Div 2A\nMULLINGAR vs RAILWAY UNION
DESCRIPTION:Week 4: Leinster Rugby Div 2A \nMULLINGAR v RAILWAY UNION \nVenue: Shay Murtagh Park \nJ2 KO 3:30 \nJ1 KO 15:00 \n
URL:http://www.mullingarrfc.ie/event/leinster-rugby-div-2amullingar-vs-railway-union/
END:VEVENT
BEGIN:VEVENT
DTSTART;TZID=Europe/London:20171028T000000
DTEND;TZID=Europe/London:20171028T000000
DTSTAMP:20171024T134228
CREATED:20171024T123943Z
LAST-MODIFIED:20171024T123943Z
UID:5472-1509145200-1509145200@www.mullingarrfc.ie
SUMMARY:HALLOWEEN LIGHTS PARTY\nSHAY MURTAGH PARK\nEVERYONE'S INVITED!
DESCRIPTION:HALLOWEEN LIGHTS PARTY 2017 \nIt’s “Back Again” Our ever popular October Halloween Family Party night in Mullingar Rugby Club.  \nFollowing on from last year’s tremendously successful and  fun filled night we invite you to join us again at Shay Murtagh Park for an even bigger and spookier party\, as was the case last year we are putting on the BIGGEST FIREWORKS DISPLAY the midlands will see over the weekend via Black Powder Monkeys Irelandâs premier fireworks and special effects providers. \n \n \n \nThere’s Music\, Dancing\, Games\, Fancy Dress\, BBQ\, Lot’s of Fun and Light refreshments for the Kids and not so light for the Adults. So why not JOIN US Saturday 28th from 18:00 at the Mullingar Rugby Club for the most FaBOOlous and SPOOKtacular night of the Year. \nCover charge –  \nAdult â¬5 \nFamily â¬10  \n \n
URL:http://www.mullingarrfc.ie/event/halloween-lights-partyshay-murtagh-parkeveryones-invited/
END:VEVENT
END:VCALENDAR